BEGIN:VCALENDAR
VERSION:2.0
PRODID:-//wp-events-plugin.com//7.2.3.1//EN
TZID:Europe/Amsterdam
X-WR-TIMEZONE:Europe/Amsterdam
BEGIN:VEVENT
UID:38@opvangbijsuus.nl
DTSTART;TZID=Europe/Amsterdam;VALUE=DATE:20260420
DTEND;TZID=Europe/Amsterdam;VALUE=DATE:20260506
DTSTAMP:20250812T062048Z
URL:https://opvangbijsuus.nl/events/meivakantie-2026/
SUMMARY:Meivakantie 2026
DESCRIPTION:Tijdens de meivakantie hoeven we Jasmijn en Benthe niet naar sc
 hool te brengen en op te halen en hebben we dus geen beperkingen in de haa
 l- en brengtijden!\n
ATTACH;FMTTYPE=image/jpeg:https://opvangbijsuus.nl/wp-content/uploads/2024
 /07/Meivakantie.png
CATEGORIES:Overige
END:VEVENT
BEGIN:VTIMEZONE
TZID:Europe/Amsterdam
X-LIC-LOCATION:Europe/Amsterdam
BEGIN:DAYLIGHT
DTSTART:20260329T030000
TZOFFSETFROM:+0100
TZOFFSETTO:+0200
TZNAME:CEST
END:DAYLIGHT
END:VTIMEZONE
END:VCALENDAR