BEGIN:VCALENDAR
VERSION:2.0
PRODID:-//wp-events-plugin.com//7.2.3.1//EN
TZID:Europe/Amsterdam
X-WR-TIMEZONE:Europe/Amsterdam
BEGIN:VEVENT
UID:45@opvangbijsuus.nl
DTSTART;TZID=Europe/Amsterdam;VALUE=DATE:20260316
DTEND;TZID=Europe/Amsterdam;VALUE=DATE:20260317
DTSTAMP:20250812T064403Z
URL:https://opvangbijsuus.nl/events/16-maart-2026-studiedag/
SUMMARY:16 maart 2026 Studiedag
DESCRIPTION:Vandaag is het studiedag. De school van Jasmijn en Benthe is ge
 sloten en dus hoeven wij hen niet naar school te brengen en op te halen.\n
ATTACH;FMTTYPE=image/jpeg:https://opvangbijsuus.nl/wp-content/uploads/2023
 /10/Studiedag.jpg
CATEGORIES:Overige
END:VEVENT
BEGIN:VTIMEZONE
TZID:Europe/Amsterdam
X-LIC-LOCATION:Europe/Amsterdam
BEGIN:STANDARD
DTSTART:20251026T020000
TZOFFSETFROM:+0200
TZOFFSETTO:+0100
TZNAME:CET
END:STANDARD
END:VTIMEZONE
END:VCALENDAR