BEGIN:VCALENDAR
VERSION:2.0
PRODID:-//wp-events-plugin.com//7.2.3.1//EN
TZID:Europe/Amsterdam
X-WR-TIMEZONE:Europe/Amsterdam
BEGIN:VEVENT
UID:53@opvangbijsuus.nl
DTSTART;TZID=Europe/Amsterdam:20260430T173000
DTEND;TZID=Europe/Amsterdam:20260430T235900
DTSTAMP:20260417T093456Z
URL:http://opvangbijsuus.nl/events/30-april-2026-aangepaste-sluitingstijd/
SUMMARY:30 april 2026 aangepaste sluitingstijd
DESCRIPTION:Op deze dag sluit de opvang eenmalig om 17:30 uur in plaats van
  18:00. Excuses voor eventueel ongemak.\n
ATTACH;FMTTYPE=image/jpeg:http://opvangbijsuus.nl/wp-content/uploads/2021/
 07/aangepaste-openingstijden.jpeg
CATEGORIES:Agenda,Overige
END:VEVENT
BEGIN:VTIMEZONE
TZID:Europe/Amsterdam
X-LIC-LOCATION:Europe/Amsterdam
BEGIN:DAYLIGHT
DTSTART:20260329T030000
TZOFFSETFROM:+0100
TZOFFSETTO:+0200
TZNAME:CEST
END:DAYLIGHT
END:VTIMEZONE
END:VCALENDAR