BEGIN:VCALENDAR
VERSION:2.0
PRODID:-//wp-events-plugin.com//7.2.3.1//EN
TZID:Europe/Amsterdam
X-WR-TIMEZONE:Europe/Amsterdam
BEGIN:VEVENT
UID:54@opvangbijsuus.nl
DTSTART;TZID=Europe/Amsterdam:20260601T173000
DTEND;TZID=Europe/Amsterdam:20260601T235900
DTSTAMP:20260417T093718Z
URL:http://opvangbijsuus.nl/events/1-juni-2026-aangepaste-sluitingstijd/
SUMMARY:1 juni 2026 aangepaste sluitingstijd
DESCRIPTION:In verband met het school korfbal toernooi\, sluit de opvang va
 ndaag om 17:30 ipv om 18:00. Excuses voor eventueel ongemak.\n
ATTACH;FMTTYPE=image/jpeg:http://opvangbijsuus.nl/wp-content/uploads/2021/
 07/aangepaste-openingstijden.jpeg
CATEGORIES:Overige
END:VEVENT
BEGIN:VTIMEZONE
TZID:Europe/Amsterdam
X-LIC-LOCATION:Europe/Amsterdam
BEGIN:DAYLIGHT
DTSTART:20260329T030000
TZOFFSETFROM:+0100
TZOFFSETTO:+0200
TZNAME:CEST
END:DAYLIGHT
END:VTIMEZONE
END:VCALENDAR